BEGIN:VCALENDAR
VERSION:2.0
PRODID:-//Radio Free 102.3 KJLH - ECPv6.15.20//NONSGML v1.0//EN
CALSCALE:GREGORIAN
METHOD:PUBLISH
X-WR-CALNAME:Radio Free 102.3 KJLH
X-ORIGINAL-URL:https://kjlhradio.com
X-WR-CALDESC:Events for Radio Free 102.3 KJLH
REFRESH-INTERVAL;VALUE=DURATION:PT1H
X-Robots-Tag:noindex
X-PUBLISHED-TTL:PT1H
BEGIN:VTIMEZONE
TZID:America/Los_Angeles
BEGIN:DAYLIGHT
TZOFFSETFROM:-0800
TZOFFSETTO:-0700
TZNAME:PDT
DTSTART:20240310T100000
END:DAYLIGHT
BEGIN:STANDARD
TZOFFSETFROM:-0700
TZOFFSETTO:-0800
TZNAME:PST
DTSTART:20241103T090000
END:STANDARD
BEGIN:DAYLIGHT
TZOFFSETFROM:-0800
TZOFFSETTO:-0700
TZNAME:PDT
DTSTART:20250309T100000
END:DAYLIGHT
BEGIN:STANDARD
TZOFFSETFROM:-0700
TZOFFSETTO:-0800
TZNAME:PST
DTSTART:20251102T090000
END:STANDARD
BEGIN:DAYLIGHT
TZOFFSETFROM:-0800
TZOFFSETTO:-0700
TZNAME:PDT
DTSTART:20260308T100000
END:DAYLIGHT
BEGIN:STANDARD
TZOFFSETFROM:-0700
TZOFFSETTO:-0800
TZNAME:PST
DTSTART:20261101T090000
END:STANDARD
END:VTIMEZONE
BEGIN:VEVENT
DTSTART;TZID=America/Los_Angeles:20250816T110000
DTEND;TZID=America/Los_Angeles:20250816T180000
DTSTAMP:20260419T102832
CREATED:20250804T142537Z
LAST-MODIFIED:20250804T225253Z
UID:282602-1755342000-1755367200@kjlhradio.com
SUMMARY:3rd Annual Black Business Day Expo
DESCRIPTION:Radio Free 102.3 KJLH is turning up the energy for Black Business Month with the 3rd Annual Black Business Day Expo\, presented by the Black Business Association in partnership with KJLH — happening Saturday\, August 16th at LA Trade Tech College! \nHosted by KJLH’s own Tammi Mac\, this free event is all about empowering\, educating\, and celebrating Black entrepreneurship — from start-ups to those ready to take it to the next level. \nJoin us in the Culinary Arts Building from 11 AM to 6 PM and tap into dynamic panel discussions\, discover how to grow your business with AI\, and learn how to land contracts\, navigate procurement\, and secure certifications — all designed to help you elevate your business strategy. \nSupport and shop with over 60 local Black-owned businesses\, and enjoy food\, entertainment\, and prizes — all in one powerful day. \nLet’s make Black Business our business.
URL:https://kjlhradio.com/events/3rd-annual-black-business-day-expo/
LOCATION:LA Trade-Technical College\, 244 W. 23rd Street\, Los Angeles\, CA\, 90007
ATTACH;FMTTYPE=image/jpeg:https://kjlhradio.com/wp-content/uploads/2025/08/TAMMI-BBD-2-1.jpg
END:VEVENT
END:VCALENDAR