BEGIN:VCALENDAR
VERSION:2.0
PRODID:-//Radio Free 102.3 KJLH - ECPv6.15.20//NONSGML v1.0//EN
CALSCALE:GREGORIAN
METHOD:PUBLISH
X-WR-CALNAME:Radio Free 102.3 KJLH
X-ORIGINAL-URL:https://kjlhradio.com
X-WR-CALDESC:Events for Radio Free 102.3 KJLH
REFRESH-INTERVAL;VALUE=DURATION:PT1H
X-Robots-Tag:noindex
X-PUBLISHED-TTL:PT1H
BEGIN:VTIMEZONE
TZID:America/Los_Angeles
BEGIN:DAYLIGHT
TZOFFSETFROM:-0800
TZOFFSETTO:-0700
TZNAME:PDT
DTSTART:20240310T100000
END:DAYLIGHT
BEGIN:STANDARD
TZOFFSETFROM:-0700
TZOFFSETTO:-0800
TZNAME:PST
DTSTART:20241103T090000
END:STANDARD
BEGIN:DAYLIGHT
TZOFFSETFROM:-0800
TZOFFSETTO:-0700
TZNAME:PDT
DTSTART:20250309T100000
END:DAYLIGHT
BEGIN:STANDARD
TZOFFSETFROM:-0700
TZOFFSETTO:-0800
TZNAME:PST
DTSTART:20251102T090000
END:STANDARD
BEGIN:DAYLIGHT
TZOFFSETFROM:-0800
TZOFFSETTO:-0700
TZNAME:PDT
DTSTART:20260308T100000
END:DAYLIGHT
BEGIN:STANDARD
TZOFFSETFROM:-0700
TZOFFSETTO:-0800
TZNAME:PST
DTSTART:20261101T090000
END:STANDARD
END:VTIMEZONE
BEGIN:VEVENT
DTSTART;TZID=America/Los_Angeles:20250927T090000
DTEND;TZID=America/Los_Angeles:20250927T170000
DTSTAMP:20260419T102745
CREATED:20250918T224032Z
LAST-MODIFIED:20250918T224123Z
UID:285474-1758963600-1758992400@kjlhradio.com
SUMMARY:4th Annual 5k Run/Walk
DESCRIPTION:Auntie Ruby’s Daughters Foundation 4th Annual 5k Run/WalkBy Auntie Ruby’s Daughters Foundation\nGet ready to lace up your sneakers and walk/run for early detection\, prevention\, and empowerment! \nStarts on Saturday\, September 27 · 9am PDT
URL:https://kjlhradio.com/events/4th-annual-5k-run-walk/
LOCATION:Yvonne B. Burke Sports Complex Baseball Fields\, 5409-5675 South Fairfax Avenue\, Ladera Heights\, CA\, 90056\, United States
ATTACH;FMTTYPE=image/png:https://kjlhradio.com/wp-content/uploads/2025/09/walk-run-social.png
END:VEVENT
END:VCALENDAR