BEGIN:VCALENDAR
VERSION:2.0
PRODID:-//Radio Free 102.3 KJLH - ECPv6.15.20//NONSGML v1.0//EN
CALSCALE:GREGORIAN
METHOD:PUBLISH
X-WR-CALNAME:Radio Free 102.3 KJLH
X-ORIGINAL-URL:https://kjlhradio.com
X-WR-CALDESC:Events for Radio Free 102.3 KJLH
REFRESH-INTERVAL;VALUE=DURATION:PT1H
X-Robots-Tag:noindex
X-PUBLISHED-TTL:PT1H
BEGIN:VTIMEZONE
TZID:America/Los_Angeles
BEGIN:DAYLIGHT
TZOFFSETFROM:-0800
TZOFFSETTO:-0700
TZNAME:PDT
DTSTART:20240310T100000
END:DAYLIGHT
BEGIN:STANDARD
TZOFFSETFROM:-0700
TZOFFSETTO:-0800
TZNAME:PST
DTSTART:20241103T090000
END:STANDARD
BEGIN:DAYLIGHT
TZOFFSETFROM:-0800
TZOFFSETTO:-0700
TZNAME:PDT
DTSTART:20250309T100000
END:DAYLIGHT
BEGIN:STANDARD
TZOFFSETFROM:-0700
TZOFFSETTO:-0800
TZNAME:PST
DTSTART:20251102T090000
END:STANDARD
BEGIN:DAYLIGHT
TZOFFSETFROM:-0800
TZOFFSETTO:-0700
TZNAME:PDT
DTSTART:20260308T100000
END:DAYLIGHT
BEGIN:STANDARD
TZOFFSETFROM:-0700
TZOFFSETTO:-0800
TZNAME:PST
DTSTART:20261101T090000
END:STANDARD
END:VTIMEZONE
BEGIN:VEVENT
DTSTART;TZID=America/Los_Angeles:20251124T100000
DTEND;TZID=America/Los_Angeles:20251124T150000
DTSTAMP:20260419T085850
CREATED:20251106T223751Z
LAST-MODIFIED:20251111T231914Z
UID:291411-1763978400-1763996400@kjlhradio.com
SUMMARY:Annual Turkey Drive
DESCRIPTION:KJLH is proud to partner with the Lifedriven Foundation\, the Heshmatpour family\, and the LAPD Wilshire District to support families in need this holiday season.  Special thanks to the Lifedriven Foundation for their dedication to feeding families in need. \nMonday\, November 24\, 202510AM to 3PMWilshire Police Station4861 Venice Blvd\, Los Angeles CA 90019
URL:https://kjlhradio.com/events/annual-turkey-drive/
LOCATION:Wilshire Police Station\, 4861 Venice Blvd\, Los Angeles\, CA\, 90019
ATTACH;FMTTYPE=image/jpeg:https://kjlhradio.com/wp-content/uploads/2025/11/turkeydrive-eblast.jpg
END:VEVENT
END:VCALENDAR