BEGIN:VCALENDAR
VERSION:2.0
PRODID:-//Radio Free 102.3 KJLH - ECPv6.15.20//NONSGML v1.0//EN
CALSCALE:GREGORIAN
METHOD:PUBLISH
X-WR-CALNAME:Radio Free 102.3 KJLH
X-ORIGINAL-URL:https://kjlhradio.com
X-WR-CALDESC:Events for Radio Free 102.3 KJLH
REFRESH-INTERVAL;VALUE=DURATION:PT1H
X-Robots-Tag:noindex
X-PUBLISHED-TTL:PT1H
BEGIN:VTIMEZONE
TZID:America/Los_Angeles
BEGIN:DAYLIGHT
TZOFFSETFROM:-0800
TZOFFSETTO:-0700
TZNAME:PDT
DTSTART:20230312T100000
END:DAYLIGHT
BEGIN:STANDARD
TZOFFSETFROM:-0700
TZOFFSETTO:-0800
TZNAME:PST
DTSTART:20231105T090000
END:STANDARD
BEGIN:DAYLIGHT
TZOFFSETFROM:-0800
TZOFFSETTO:-0700
TZNAME:PDT
DTSTART:20240310T100000
END:DAYLIGHT
BEGIN:STANDARD
TZOFFSETFROM:-0700
TZOFFSETTO:-0800
TZNAME:PST
DTSTART:20241103T090000
END:STANDARD
BEGIN:DAYLIGHT
TZOFFSETFROM:-0800
TZOFFSETTO:-0700
TZNAME:PDT
DTSTART:20250309T100000
END:DAYLIGHT
BEGIN:STANDARD
TZOFFSETFROM:-0700
TZOFFSETTO:-0800
TZNAME:PST
DTSTART:20251102T090000
END:STANDARD
END:VTIMEZONE
BEGIN:VEVENT
DTSTART;TZID=America/Los_Angeles:20240824T180000
DTEND;TZID=America/Los_Angeles:20240824T210000
DTSTAMP:20260419T180032
CREATED:20240815T145638Z
LAST-MODIFIED:20240815T145643Z
UID:250372-1724522400-1724533200@kjlhradio.com
SUMMARY:Art Battle LA presented by Sharpie Creative Markers
DESCRIPTION:Join us on Saturday August 24th at Academy LA for an unforgettable night of creativity\, competition\, and community at Art Battle Los Angeles\, presented by Sharpie Creative Markers. \nThe DJ spins and drinks are served as creativity sets the stage! \n12 Artists Battle it out in three 20-minute rounds. Audiences and judges vote for the winners. \nAre you a marker savvy artist? Do you know one? There are $5\,000 in prizes including a $2\,500 cash prize! Additional prizes include a ticket to the Art Battle National Championships in San Francisco in October\, and cash prizes and Sharpie prizes for runners up. Applications open Till August 7th. Apply now @ artbattle.com/apply – preference to local LA artists\, but travel payments possible\, so go for it! Paid participation plus auction share and prize potential.\n			\n				Tickets and Info
URL:https://kjlhradio.com/events/art-battle-la-presented-by-sharpie-creative-markers/
LOCATION:Academy LA\, 6021 Hollywood Blvd\, Los Angeles\, CA
ATTACH;FMTTYPE=image/png:https://kjlhradio.com/wp-content/uploads/2024/08/abxla-sharpie-a3-poster.png
END:VEVENT
END:VCALENDAR