BEGIN:VCALENDAR
VERSION:2.0
PRODID:-//Radio Free 102.3 KJLH - ECPv6.15.20//NONSGML v1.0//EN
CALSCALE:GREGORIAN
METHOD:PUBLISH
X-WR-CALNAME:Radio Free 102.3 KJLH
X-ORIGINAL-URL:https://kjlhradio.com
X-WR-CALDESC:Events for Radio Free 102.3 KJLH
REFRESH-INTERVAL;VALUE=DURATION:PT1H
X-Robots-Tag:noindex
X-PUBLISHED-TTL:PT1H
BEGIN:VTIMEZONE
TZID:America/Los_Angeles
BEGIN:DAYLIGHT
TZOFFSETFROM:-0800
TZOFFSETTO:-0700
TZNAME:PDT
DTSTART:20240310T100000
END:DAYLIGHT
BEGIN:STANDARD
TZOFFSETFROM:-0700
TZOFFSETTO:-0800
TZNAME:PST
DTSTART:20241103T090000
END:STANDARD
BEGIN:DAYLIGHT
TZOFFSETFROM:-0800
TZOFFSETTO:-0700
TZNAME:PDT
DTSTART:20250309T100000
END:DAYLIGHT
BEGIN:STANDARD
TZOFFSETFROM:-0700
TZOFFSETTO:-0800
TZNAME:PST
DTSTART:20251102T090000
END:STANDARD
BEGIN:DAYLIGHT
TZOFFSETFROM:-0800
TZOFFSETTO:-0700
TZNAME:PDT
DTSTART:20260308T100000
END:DAYLIGHT
BEGIN:STANDARD
TZOFFSETFROM:-0700
TZOFFSETTO:-0800
TZNAME:PST
DTSTART:20261101T090000
END:STANDARD
END:VTIMEZONE
BEGIN:VEVENT
DTSTART;TZID=America/Los_Angeles:20250816T100000
DTEND;TZID=America/Los_Angeles:20250816T130000
DTSTAMP:20260419T102745
CREATED:20250807T214704Z
LAST-MODIFIED:20250807T214707Z
UID:282929-1755338400-1755349200@kjlhradio.com
SUMMARY:Back to School Backpack Giveaway
DESCRIPTION:Gear up for the new school year at Inglewood Councilmember Dionne Faulk and Assemblymember Tina McKinnor ‘s Back to School Backpack Giveaway! 📚 Join us on Saturday\, August 16th\, from 10am to 1pm! Bring your family and get ready for a day packed with games\, activities\, refreshments\, and more! Can’t wait to see you there! \n1200-11350 Crenshaw Blvd Inglewood\, CA 90303
URL:https://kjlhradio.com/events/back-to-school-backpack-giveaway/
LOCATION:City of Inglewood Government\, 1200-11350 Crenshaw Blvd\, Inglewood\, CA\, 90303
ATTACH;FMTTYPE=image/jpeg:https://kjlhradio.com/wp-content/uploads/2025/08/back2school.jpg
END:VEVENT
END:VCALENDAR