BEGIN:VCALENDAR
VERSION:2.0
PRODID:-//Radio Free 102.3 KJLH - ECPv6.15.20//NONSGML v1.0//EN
CALSCALE:GREGORIAN
METHOD:PUBLISH
X-WR-CALNAME:Radio Free 102.3 KJLH
X-ORIGINAL-URL:https://kjlhradio.com
X-WR-CALDESC:Events for Radio Free 102.3 KJLH
REFRESH-INTERVAL;VALUE=DURATION:PT1H
X-Robots-Tag:noindex
X-PUBLISHED-TTL:PT1H
BEGIN:VTIMEZONE
TZID:America/Los_Angeles
BEGIN:DAYLIGHT
TZOFFSETFROM:-0800
TZOFFSETTO:-0700
TZNAME:PDT
DTSTART:20240310T100000
END:DAYLIGHT
BEGIN:STANDARD
TZOFFSETFROM:-0700
TZOFFSETTO:-0800
TZNAME:PST
DTSTART:20241103T090000
END:STANDARD
BEGIN:DAYLIGHT
TZOFFSETFROM:-0800
TZOFFSETTO:-0700
TZNAME:PDT
DTSTART:20250309T100000
END:DAYLIGHT
BEGIN:STANDARD
TZOFFSETFROM:-0700
TZOFFSETTO:-0800
TZNAME:PST
DTSTART:20251102T090000
END:STANDARD
BEGIN:DAYLIGHT
TZOFFSETFROM:-0800
TZOFFSETTO:-0700
TZNAME:PDT
DTSTART:20260308T100000
END:DAYLIGHT
BEGIN:STANDARD
TZOFFSETFROM:-0700
TZOFFSETTO:-0800
TZNAME:PST
DTSTART:20261101T090000
END:STANDARD
END:VTIMEZONE
BEGIN:VEVENT
DTSTART;TZID=America/Los_Angeles:20250704T150000
DTEND;TZID=America/Los_Angeles:20250704T220000
DTSTAMP:20260419T115850
CREATED:20250701T185242Z
LAST-MODIFIED:20250701T185246Z
UID:279852-1751641200-1751666400@kjlhradio.com
SUMMARY:Fourth of July in Downtown Long Beach
DESCRIPTION:From rooftop pool parties and harbor cruises to drag shows\, and fireworks lighting up the sky—there are endless ways to celebrate! We’ve put together the ultimate list of events and experiences in our latest Downtown Scene newsletter article. 👉 Tap the link 🔗 in bio to read the full list\, and don’t forget to subscribe so you never miss a beat in DTLB!
URL:https://kjlhradio.com/events/fourth-of-july-in-downtown-long-beach/
LOCATION:Queen Mary\, 1126 Queens Hwy\, Long Beach\, CA\, 90802
ATTACH;FMTTYPE=image/jpeg:https://kjlhradio.com/wp-content/uploads/2025/07/longbeach.jpg
END:VEVENT
END:VCALENDAR