BEGIN:VCALENDAR
VERSION:2.0
PRODID:-//Radio Free 102.3 KJLH - ECPv6.15.20//NONSGML v1.0//EN
CALSCALE:GREGORIAN
METHOD:PUBLISH
X-WR-CALNAME:Radio Free 102.3 KJLH
X-ORIGINAL-URL:https://kjlhradio.com
X-WR-CALDESC:Events for Radio Free 102.3 KJLH
REFRESH-INTERVAL;VALUE=DURATION:PT1H
X-Robots-Tag:noindex
X-PUBLISHED-TTL:PT1H
BEGIN:VTIMEZONE
TZID:America/Los_Angeles
BEGIN:DAYLIGHT
TZOFFSETFROM:-0800
TZOFFSETTO:-0700
TZNAME:PDT
DTSTART:20230312T100000
END:DAYLIGHT
BEGIN:STANDARD
TZOFFSETFROM:-0700
TZOFFSETTO:-0800
TZNAME:PST
DTSTART:20231105T090000
END:STANDARD
BEGIN:DAYLIGHT
TZOFFSETFROM:-0800
TZOFFSETTO:-0700
TZNAME:PDT
DTSTART:20240310T100000
END:DAYLIGHT
BEGIN:STANDARD
TZOFFSETFROM:-0700
TZOFFSETTO:-0800
TZNAME:PST
DTSTART:20241103T090000
END:STANDARD
BEGIN:DAYLIGHT
TZOFFSETFROM:-0800
TZOFFSETTO:-0700
TZNAME:PDT
DTSTART:20250309T100000
END:DAYLIGHT
BEGIN:STANDARD
TZOFFSETFROM:-0700
TZOFFSETTO:-0800
TZNAME:PST
DTSTART:20251102T090000
END:STANDARD
END:VTIMEZONE
BEGIN:VEVENT
DTSTART;TZID=America/Los_Angeles:20240512T190000
DTEND;TZID=America/Los_Angeles:20240512T220000
DTSTAMP:20260419T180026
CREATED:20240325T153927Z
LAST-MODIFIED:20240325T153930Z
UID:243238-1715540400-1715551200@kjlhradio.com
SUMMARY:Frankie Beverly: Farewell To Frankie
DESCRIPTION:
URL:https://kjlhradio.com/events/frankie-beverly-farewell-to-frankie/
LOCATION:Kia Forum\, 3900 W Manchester Blvd\, Inglewood\, CA\, 90305
ATTACH;FMTTYPE=image/jpeg:https://kjlhradio.com/wp-content/uploads/2024/03/frankie.jpg
END:VEVENT
END:VCALENDAR