BEGIN:VCALENDAR
VERSION:2.0
PRODID:-//Radio Free 102.3 KJLH - ECPv6.15.20//NONSGML v1.0//EN
CALSCALE:GREGORIAN
METHOD:PUBLISH
X-WR-CALNAME:Radio Free 102.3 KJLH
X-ORIGINAL-URL:https://kjlhradio.com
X-WR-CALDESC:Events for Radio Free 102.3 KJLH
REFRESH-INTERVAL;VALUE=DURATION:PT1H
X-Robots-Tag:noindex
X-PUBLISHED-TTL:PT1H
BEGIN:VTIMEZONE
TZID:America/Los_Angeles
BEGIN:DAYLIGHT
TZOFFSETFROM:-0800
TZOFFSETTO:-0700
TZNAME:PDT
DTSTART:20230312T100000
END:DAYLIGHT
BEGIN:STANDARD
TZOFFSETFROM:-0700
TZOFFSETTO:-0800
TZNAME:PST
DTSTART:20231105T090000
END:STANDARD
BEGIN:DAYLIGHT
TZOFFSETFROM:-0800
TZOFFSETTO:-0700
TZNAME:PDT
DTSTART:20240310T100000
END:DAYLIGHT
BEGIN:STANDARD
TZOFFSETFROM:-0700
TZOFFSETTO:-0800
TZNAME:PST
DTSTART:20241103T090000
END:STANDARD
BEGIN:DAYLIGHT
TZOFFSETFROM:-0800
TZOFFSETTO:-0700
TZNAME:PDT
DTSTART:20250309T100000
END:DAYLIGHT
BEGIN:STANDARD
TZOFFSETFROM:-0700
TZOFFSETTO:-0800
TZNAME:PST
DTSTART:20251102T090000
END:STANDARD
END:VTIMEZONE
BEGIN:VEVENT
DTSTART;TZID=America/Los_Angeles:20240825T120000
DTEND;TZID=America/Los_Angeles:20240825T180000
DTSTAMP:20260419T175909
CREATED:20240813T210801Z
LAST-MODIFIED:20240813T211949Z
UID:250042-1724587200-1724608800@kjlhradio.com
SUMMARY:IVS Pet Summer Series
DESCRIPTION:Integrative Veterinary Services INC. is not just a traditional veterinary corporation but a holistic one that treats the entire animal. Our mission is to enhance pets’ health and well-being by offering convenient\, high-quality veterinary services in the comfort of their homes. IVS Mobile Vets is excited to announce our brand-new grooming and veterinary mobile vehicle! That’s right! Premium grooming and expert veterinary care now come directly to your doorstep. Our state-of-the-art mobile vehicle is fully equipped to handle all your pet’s needs—from grooming to vaccinations\, check-ups\, and more! With our team of experienced veterinarians and cutting-edge mobile facilities\, we are revolutionizing pet healthcare delivery. \nJoin us for the IVS Mobile Vets Pet Summer Series Tour! We’re showcasing our new services with exciting giveaways and interactive activities for your furry friends. \nCatch us at your favorite dog beaches on Sunday from 12 PM to 6 PM. Here’s where you can find us!
URL:https://kjlhradio.com/events/ivs-pet-summer-series-2/
LOCATION:Venice Beach\, 2100 Ocean Front Walk\, Venice\, CA
ATTACH;FMTTYPE=image/jpeg:https://kjlhradio.com/wp-content/uploads/2024/08/ivs-hero-edited.jpg
END:VEVENT
END:VCALENDAR