BEGIN:VCALENDAR
VERSION:2.0
PRODID:-//Radio Free 102.3 KJLH - ECPv6.15.20//NONSGML v1.0//EN
CALSCALE:GREGORIAN
METHOD:PUBLISH
X-WR-CALNAME:Radio Free 102.3 KJLH
X-ORIGINAL-URL:https://kjlhradio.com
X-WR-CALDESC:Events for Radio Free 102.3 KJLH
REFRESH-INTERVAL;VALUE=DURATION:PT1H
X-Robots-Tag:noindex
X-PUBLISHED-TTL:PT1H
BEGIN:VTIMEZONE
TZID:America/Los_Angeles
BEGIN:DAYLIGHT
TZOFFSETFROM:-0800
TZOFFSETTO:-0700
TZNAME:PDT
DTSTART:20240310T100000
END:DAYLIGHT
BEGIN:STANDARD
TZOFFSETFROM:-0700
TZOFFSETTO:-0800
TZNAME:PST
DTSTART:20241103T090000
END:STANDARD
BEGIN:DAYLIGHT
TZOFFSETFROM:-0800
TZOFFSETTO:-0700
TZNAME:PDT
DTSTART:20250309T100000
END:DAYLIGHT
BEGIN:STANDARD
TZOFFSETFROM:-0700
TZOFFSETTO:-0800
TZNAME:PST
DTSTART:20251102T090000
END:STANDARD
BEGIN:DAYLIGHT
TZOFFSETFROM:-0800
TZOFFSETTO:-0700
TZNAME:PDT
DTSTART:20260308T100000
END:DAYLIGHT
BEGIN:STANDARD
TZOFFSETFROM:-0700
TZOFFSETTO:-0800
TZNAME:PST
DTSTART:20261101T090000
END:STANDARD
END:VTIMEZONE
BEGIN:VEVENT
DTSTART;TZID=America/Los_Angeles:20250704T193000
DTEND;TZID=America/Los_Angeles:20250704T233000
DTSTAMP:20260419T103523
CREATED:20250701T190250Z
LAST-MODIFIED:20250701T190352Z
UID:279868-1751657400-1751671800@kjlhradio.com
SUMMARY:July Fourth Fireworks Spectacular with Earth\, Wind & Fire
DESCRIPTION:Nine-time Grammy Award-winning icons and one of the best-selling artists of all time Earth\, Wind & Fire brings their iconic and timeless catalog of music with hits like “September” and “Shining Star” for three thrilling nights of songs\, fireworks and fun. Like the elements in their name\, Earth\, Wind & Fire’s music has withstood ever-changing trends in the world and shows no sign of vanishing as they continue to create joy and uplifting tunes that will forever reach a sacred universal atmosphere. Together with the Los Angeles Philharmonic\, conductor Thomas Wilkins\, and a sky full of fireworks\, the party-starting Rock & Roll Hall of Famers make it a huge July Fourth at the Bowl.
URL:https://kjlhradio.com/events/july-fourth-fireworks-spectacular-with-earth-wind-fire/
LOCATION:Hollywood Bowl\, 2301 Highland Ave\, Los Angeles\, CA\, 90068
ATTACH;FMTTYPE=image/jpeg:https://kjlhradio.com/wp-content/uploads/2025/06/EarthWindFire.jpg
END:VEVENT
END:VCALENDAR