BEGIN:VCALENDAR
VERSION:2.0
PRODID:-//Radio Free 102.3 KJLH - ECPv6.15.20//NONSGML v1.0//EN
CALSCALE:GREGORIAN
METHOD:PUBLISH
X-WR-CALNAME:Radio Free 102.3 KJLH
X-ORIGINAL-URL:https://kjlhradio.com
X-WR-CALDESC:Events for Radio Free 102.3 KJLH
REFRESH-INTERVAL;VALUE=DURATION:PT1H
X-Robots-Tag:noindex
X-PUBLISHED-TTL:PT1H
BEGIN:VTIMEZONE
TZID:America/Los_Angeles
BEGIN:DAYLIGHT
TZOFFSETFROM:-0800
TZOFFSETTO:-0700
TZNAME:PDT
DTSTART:20230312T100000
END:DAYLIGHT
BEGIN:STANDARD
TZOFFSETFROM:-0700
TZOFFSETTO:-0800
TZNAME:PST
DTSTART:20231105T090000
END:STANDARD
BEGIN:DAYLIGHT
TZOFFSETFROM:-0800
TZOFFSETTO:-0700
TZNAME:PDT
DTSTART:20240310T100000
END:DAYLIGHT
BEGIN:STANDARD
TZOFFSETFROM:-0700
TZOFFSETTO:-0800
TZNAME:PST
DTSTART:20241103T090000
END:STANDARD
BEGIN:DAYLIGHT
TZOFFSETFROM:-0800
TZOFFSETTO:-0700
TZNAME:PDT
DTSTART:20250309T100000
END:DAYLIGHT
BEGIN:STANDARD
TZOFFSETFROM:-0700
TZOFFSETTO:-0800
TZNAME:PST
DTSTART:20251102T090000
END:STANDARD
END:VTIMEZONE
BEGIN:VEVENT
DTSTART;TZID=America/Los_Angeles:20240914T080000
DTEND;TZID=America/Los_Angeles:20240914T150000
DTSTAMP:20260419T143709
CREATED:20240809T150134Z
LAST-MODIFIED:20240912T213132Z
UID:249630-1726300800-1726326000@kjlhradio.com
SUMMARY:KJLH Men's Empowerment Summit 2024
DESCRIPTION:Register now to get a free breakfast and let’s make history together!\n\n\n \n \n \n\n\n\n\n\nBreakfast is served in Loker Student Union Palm Courtyard\n						8a-8:45a \n\n \n \n \n\n\n\n\n\n\n\n\nAgenda\n\n \n \n\n\n\n\n9:30a-10:45a \n\n\n\nMOBILIZING BLACK MEN \n\n\n\n– Theater – \n\n \n \n\n\n\n\n11a-12n \n\n\n\nHEALTH:\nThe Complete Man Plan; Mind\, Body & Spirit \n\n\n\n– BALLROOM C – \n\n \n \n\n\n\n\n11a-12n \n\n\n\nBrother to Brother Let’s Talk About Prostate Cancer \n\n\n\n– ROOM 324-325 – \n\n\n				\n			\n \n \n\n\n\n\n11a-12n \n\n\n\nEMPOWER 25\nLogic\, Facts and Real Talk \n\n\n\n– ROOM 320 – \n\n\n				\n			\n \n \n\n\n\n\n11:30a-12:30p \n\n\nAARP\nSocial Security Essentials; Your Guide to Retirement Earnings\n \n\n\n– BALLROOM A – \n\n\n				\n			\n\n\nAARP will be answering your questions and helping you to get set up for Social Security. Covering questions like What are the penalties for signing up late? What age is of full retirement? How to get the most from your benefits. Will you be able to get Soc Sec by a certain age even if I still have a job? Are Taxes paid on SS? Are we really in danger of losing Social security? These and so many more questions will be answered. \n\n \n \n\n\n\n\n12:30p-1:30p \n\n\n\nEVOLVE BEYOND YOUR EGO\nBlack Men Check-up \n\n\n\n– BALLROOM B – \n\n\n				\n			\n \n \n\n\n\n\n12:30p-2p \n\n\n\nFINANCE\nLAvate 28: Taking Your Finances & Business from Bronze to Gold \n\n\n\n– BALLROOM A (Also continued in Room 323) – \n\n\n				\n			\n \n \n\n\n\n\n12:30p-1:45p \n\n\n\nRELATIONSHIPS\nStronger Together \n\n\n\n– BALLROOM C – \n\n \n \n\n\n\n\n2p-3:30p \n\n\n\nUnpacking PROJECT 2025 \n\n\n\n– BALLROOM C – \n\n \n \n\n\n\n\nAll Day \n\n\n\nRESOURCE CENTER\nExpungement Services\nVoter Registration \n\n\n\n– ROOM 326-327 – \n\n\n				\n			\n \n \n \n\n\n\n\n\nRelationship Panel\nHealth Panel\nFinance Panel\nEvolve Beyond Your Ego\nAARP: Social Security Essentials\n\n\n\n\nStronger Together\n\n					\nKerry Neal\, Founder and Chief Change Agent for KeepingIt100LA\, Inc.\, a nonprofit organization committed to advancing harmonious love in the Black community and providing the critical tools for better decision-making while active in the dating scene.\n				\n\n					\nRon G\, stand-up comedian\, actor\, writer\, and an Emmy award-winning producer. Manal G is half of the popular podcast “Q & A with BAE\,” where she and Ron G share funny and transparent stories about their relationship journey.\n				\n\n\n					\nThe Honorable Bryan Stodghill\, a Superior Court Judge for San Bernardino County and his wife\, Dr. Joycelynne Stodghill\, Ph.D in Preventive Medicine and works as a clinical researcher.\n				\n\n					\nClint and DeAnna Lewis are accomplished entrepreneurs and the proud owners of six (6) Wing Stop franchises and two (2) Handel’s Ice Cream Parlors franchises.\n				\n\n\n\n\nThe Complete Man Plan … Mind\, Body and Spirit\n\n					\nCurley Bonds\, Moderator and Mental Specialist\n				\n\n					Coach E\, Ultimate Transformation\, Physical Specialist\n				\n\n					Pastor Shepp\, Spiritual Specialist\n				\n\n\n\n\nLAvate 28 … Taking Your Finances and Business From Bronze to Gold\n\n					Lisa Stevens\, Vice President\, Senior Business Consultant – JPMorgan Chase for Business Racial Equity\n				\n\n					Christopher Beene\, Community Manager\, Community & Business Development Chase\n				\n\n\n\n\nEvolve Beyond Your Ego\nTyrone Davis is a Fire Captain and 25 year veteran with the Los Angeles Fire Department. As a community leader his organization\, The Lifeaholik Movement is committed to enhancing and elevating the lives of others in the inner city by curating various health & wellness events to tap into our higher selves. These events include but are not limited to yoga\, sound bowls\, meditation\, fitness\, various workshops\, excursions and more\, so tap in with us to stay current on upcoming events! \n\n\n\nAARP: Social Security Essentials; Your Guide to Retirement Earnings\n \nJammie Lyell is an accomplished professional with a strong educational background and diverse experience in the field of psychology and social services. \nJammie’s career journey has seen him excel as a former technical expert with the Social Security Administration\, where he utilized his specialized knowledge to assist and support individuals navigating the complexities of the system. Currently\, Jammie serves as a program manager at AARP\, where he plays a vital role in developing and implementing impactful initiatives for the betterment of Social Security. \nJammie is a proud alumnus of Coppin State University\, where he earned his bachelor’s degree in psychology. He further honed his expertise by obtaining a master’s degree in Industrial-Organizational Psychology. Driven by a passion for continuous growth and learning\, Jammie is also pursuing a Master of Arts degree in Nonprofit Management at Johns Hopkins University. This endeavor reflects his commitment to understanding and contributing to the nonprofit sector\, further enhancing his ability to make a positive difference in the lives of others.
URL:https://kjlhradio.com/events/kjlh-mens-empowerment-summit-2024/
LOCATION:California State Dominguez Hills\, 1000 East Victoria St.\, Carson\, CA\, 90747
ATTACH;FMTTYPE=image/jpeg:https://kjlhradio.com/wp-content/uploads/2024/08/BLACK-PRINT-2024-v2.jpg
END:VEVENT
END:VCALENDAR