BEGIN:VCALENDAR
VERSION:2.0
PRODID:-//Radio Free 102.3 KJLH - ECPv6.15.20//NONSGML v1.0//EN
CALSCALE:GREGORIAN
METHOD:PUBLISH
X-WR-CALNAME:Radio Free 102.3 KJLH
X-ORIGINAL-URL:https://kjlhradio.com
X-WR-CALDESC:Events for Radio Free 102.3 KJLH
REFRESH-INTERVAL;VALUE=DURATION:PT1H
X-Robots-Tag:noindex
X-PUBLISHED-TTL:PT1H
BEGIN:VTIMEZONE
TZID:America/Los_Angeles
BEGIN:DAYLIGHT
TZOFFSETFROM:-0800
TZOFFSETTO:-0700
TZNAME:PDT
DTSTART:20230312T100000
END:DAYLIGHT
BEGIN:STANDARD
TZOFFSETFROM:-0700
TZOFFSETTO:-0800
TZNAME:PST
DTSTART:20231105T090000
END:STANDARD
BEGIN:DAYLIGHT
TZOFFSETFROM:-0800
TZOFFSETTO:-0700
TZNAME:PDT
DTSTART:20240310T100000
END:DAYLIGHT
BEGIN:STANDARD
TZOFFSETFROM:-0700
TZOFFSETTO:-0800
TZNAME:PST
DTSTART:20241103T090000
END:STANDARD
BEGIN:DAYLIGHT
TZOFFSETFROM:-0800
TZOFFSETTO:-0700
TZNAME:PDT
DTSTART:20250309T100000
END:DAYLIGHT
BEGIN:STANDARD
TZOFFSETFROM:-0700
TZOFFSETTO:-0800
TZNAME:PST
DTSTART:20251102T090000
END:STANDARD
END:VTIMEZONE
BEGIN:VEVENT
DTSTART;TZID=America/Los_Angeles:20241125T083000
DTEND;TZID=America/Los_Angeles:20241125T170000
DTSTAMP:20260419T145710
CREATED:20241114T151715Z
LAST-MODIFIED:20241118T200458Z
UID:259800-1732523400-1732554000@kjlhradio.com
SUMMARY:Lifedriven foundation for 4th annual Thanksgiving Giveaway
DESCRIPTION:Join Radio Free 102.3 KJLH and Lifedriven Foundation for the 4th annual Thanksgiving giveaway! We are giving away 2\,000 turkeys and all the fixins’ to families in need! At LAPD Wilshire Divison Station. Monday\, November 25th – 8:30am.\nBrought to you by Jerome’s Socal Home Improvement\, New Image Dental.org\, the SOS Lawyers\, Lifedriven Foundation and Radio Free 102.3 KJLH.
URL:https://kjlhradio.com/events/lifedriven-foundation-for-4th-annual-thanksgiving-giveaway/
LOCATION:LAPD Wishire Division\, 4861 Venice Blvd.\, Los Angeles\, CA\, 90019
ATTACH;FMTTYPE=image/jpeg:https://kjlhradio.com/wp-content/uploads/2024/11/Thanksgiving-giveaway5-1.jpg
END:VEVENT
END:VCALENDAR