BEGIN:VCALENDAR
VERSION:2.0
PRODID:-//Radio Free 102.3 KJLH - ECPv6.15.20//NONSGML v1.0//EN
CALSCALE:GREGORIAN
METHOD:PUBLISH
X-WR-CALNAME:Radio Free 102.3 KJLH
X-ORIGINAL-URL:https://kjlhradio.com
X-WR-CALDESC:Events for Radio Free 102.3 KJLH
REFRESH-INTERVAL;VALUE=DURATION:PT1H
X-Robots-Tag:noindex
X-PUBLISHED-TTL:PT1H
BEGIN:VTIMEZONE
TZID:America/Los_Angeles
BEGIN:DAYLIGHT
TZOFFSETFROM:-0800
TZOFFSETTO:-0700
TZNAME:PDT
DTSTART:20250309T100000
END:DAYLIGHT
BEGIN:STANDARD
TZOFFSETFROM:-0700
TZOFFSETTO:-0800
TZNAME:PST
DTSTART:20251102T090000
END:STANDARD
BEGIN:DAYLIGHT
TZOFFSETFROM:-0800
TZOFFSETTO:-0700
TZNAME:PDT
DTSTART:20260308T100000
END:DAYLIGHT
BEGIN:STANDARD
TZOFFSETFROM:-0700
TZOFFSETTO:-0800
TZNAME:PST
DTSTART:20261101T090000
END:STANDARD
BEGIN:DAYLIGHT
TZOFFSETFROM:-0800
TZOFFSETTO:-0700
TZNAME:PDT
DTSTART:20270314T100000
END:DAYLIGHT
BEGIN:STANDARD
TZOFFSETFROM:-0700
TZOFFSETTO:-0800
TZNAME:PST
DTSTART:20271107T090000
END:STANDARD
END:VTIMEZONE
BEGIN:VEVENT
DTSTART;TZID=America/Los_Angeles:20260404T110000
DTEND;TZID=America/Los_Angeles:20260404T160000
DTSTAMP:20260419T061226
CREATED:20260319T232628Z
LAST-MODIFIED:20260324T002223Z
UID:305151-1775300400-1775318400@kjlhradio.com
SUMMARY:Fourth Annual Spring Fest
DESCRIPTION:Get ready for a full day of community\, culture\, competition\, and unforgettable family fun! 👨🏾‍👩🏾‍👧🏾‍👦🏾💛\nJoin Danny & Krishna Tabor\, Sinclaire Tabor\, and 102.3 KJLH for the 2026 Spring Fest — happening Saturday\, April 4th from 11AM to 4PM at the Michelle and Barack Obama Sports Complex. Enjoy a day packed with an egg hunt\, arts & crafts\, and access to valuable community\, educational\, and medical resources.\nThis year’s Spring Fest will feature:🥚 TWO HUGE Egg Hunts🏈 Football Combine Training⛳ Golf Skills Activation with Angelique On The Links🚁 Drone Flying & STEM Certification with The Engineer Factory🐍 Reptile Education with Kreature Kingdom♠️ Spades Tournament to Crown LA’s Spades Champs♟️ South Central Chess Club teaching chess and strategic thinking🧠 Community resources & youth empowerment activities🎶 Music\, dancing\, games & live entertainment \nAnd that’s not all… special surprises will be happening throughout the day! 🎁✨ \nBring the kids\, invite your neighbors\, and come celebrate with us as we continue building stronger communities\, empowering youth\, and creating lasting memories together. 🌱🌈 \n📅 Saturday\, April 4\, 2026📍 Michelle & Barack Obama Sports Complex🎉 Fourth Annual Spring Fest
URL:https://kjlhradio.com/events/fourth-annual-spring-fest/
LOCATION:MICHELLE AND BARACK OBAMA SPORTS COMPLEX\, 5001 Obama Blvd\, Los Angeles\, CA\, 90016\, United States
ATTACH;FMTTYPE=image/jpeg:https://kjlhradio.com/wp-content/uploads/2026/03/springfest-675.jpg
END:VEVENT
BEGIN:VEVENT
DTSTART;TZID=America/Los_Angeles:20260815T060000
DTEND;TZID=America/Los_Angeles:20260815T170000
DTSTAMP:20260419T061226
CREATED:20260210T213225Z
LAST-MODIFIED:20260403T005520Z
UID:302558-1786773600-1786813200@kjlhradio.com
SUMMARY:KJLH Women's Health Expo 2026
DESCRIPTION:Get Ready for the 2026 KJLH Women’s Health Expo! Same Great Energy\, Same Fun Time\, Same Great Info! All in one place.\nSaturday\, August 15\, 2026\nKJLH Women’s Health ExpoLong Beach Convention Center \nSign up now to be a Sponsor/Vendor at the KJLH Women’s Health Expo!\nLead your own Breakout SessionPerfect for recruitmentSell your beauty products and servicesSponsor the Healthy Dishes StageSponsor the Exercise AreaBuild an activation that puts your company front and centerPromote your event and sell ticketsSponsor Free Health Screenings and moreTap into Thousands of Women!!! \nEmail womenshealthexpo@kjlhradio.com to get your space now!\n\nRegister Below to Attend!\n\n\n \n\n\n\nName *\n\n\nEmail Address *\n\n\nPhone *\n\n\n\n\n\n\nCity *\n\n\n\n\nZIP / Postal Code\n\n\n\n\nAge Group *18-2526-3536-4546-5556-6565+\n\n\n\n\nWhat health topics are important to you?\n\n\nWill you be attending the 8AM Live Broadcast? *YesNoNot Sure\n\n\n\n\n\n \n\n \n\n\nSend Message
URL:https://kjlhradio.com/events/kjlh-womens-health-expo-2026/
LOCATION:Long Beach Convention Center\, 300 E Ocean Blvd\, Long Beach\, 90802
ATTACH;FMTTYPE=image/jpeg:https://kjlhradio.com/wp-content/uploads/2026/02/whe.jpg
END:VEVENT
END:VCALENDAR