BEGIN:VCALENDAR
VERSION:2.0
PRODID:-//Radio Free 102.3 KJLH - ECPv6.15.20//NONSGML v1.0//EN
CALSCALE:GREGORIAN
METHOD:PUBLISH
X-WR-CALNAME:Radio Free 102.3 KJLH
X-ORIGINAL-URL:https://kjlhradio.com
X-WR-CALDESC:Events for Radio Free 102.3 KJLH
REFRESH-INTERVAL;VALUE=DURATION:PT1H
X-Robots-Tag:noindex
X-PUBLISHED-TTL:PT1H
BEGIN:VTIMEZONE
TZID:America/Los_Angeles
BEGIN:DAYLIGHT
TZOFFSETFROM:-0800
TZOFFSETTO:-0700
TZNAME:PDT
DTSTART:20220313T100000
END:DAYLIGHT
BEGIN:STANDARD
TZOFFSETFROM:-0700
TZOFFSETTO:-0800
TZNAME:PST
DTSTART:20221106T090000
END:STANDARD
BEGIN:DAYLIGHT
TZOFFSETFROM:-0800
TZOFFSETTO:-0700
TZNAME:PDT
DTSTART:20230312T100000
END:DAYLIGHT
BEGIN:STANDARD
TZOFFSETFROM:-0700
TZOFFSETTO:-0800
TZNAME:PST
DTSTART:20231105T090000
END:STANDARD
BEGIN:DAYLIGHT
TZOFFSETFROM:-0800
TZOFFSETTO:-0700
TZNAME:PDT
DTSTART:20240310T100000
END:DAYLIGHT
BEGIN:STANDARD
TZOFFSETFROM:-0700
TZOFFSETTO:-0800
TZNAME:PST
DTSTART:20241103T090000
END:STANDARD
END:VTIMEZONE
BEGIN:VTIMEZONE
TZID:UTC
BEGIN:STANDARD
TZOFFSETFROM:+0000
TZOFFSETTO:+0000
TZNAME:UTC
DTSTART:20220101T000000
END:STANDARD
END:VTIMEZONE
BEGIN:VEVENT
DTSTART;TZID=America/Los_Angeles:20230819T110000
DTEND;TZID=America/Los_Angeles:20230819T140000
DTSTAMP:20260419T191516
CREATED:20230802T225534Z
LAST-MODIFIED:20230802T225537Z
UID:58665-1692442800-1692453600@kjlhradio.com
SUMMARY:2023 Back to School Community Fair
DESCRIPTION:Providing resources\, screenings\, school supplies & food to students & families who are in need for the upcoming school year! \nAll activities and vendors will open. REGISTERED guests who can provide a copy of their registration (digital or printed) will be admitted quickly. (Pro tip: pre-registering gets you in faster!) \nClick here to register \nPlease spread the word about this event with your friends\, family\, staff\, and colleagues. \nAshe Arts & STEM\, Holy Trinity Childcare Center\, Teach 1 Reach 1 Foundation\, and Pulse Arts are putting together a back to school community fair on Saturday\, August 19\, 2023. This years event promises to be even BIGGER than last year’s event!! \nWe will be providing resources\, screenings\, school supplies \, groceries and activities to students and families in the Los Angeles/Inglewood/Long Beach/Compton communities. You are invited to participate. Spread the word to youth/families you know that can and will attend. FIRST COME\, FIRST SERVE. While supplies last. \n🎉We are excited to announce that CVS Project Health is partnering with the 2023 Back to School Community Fair to promote healthy living.🌿 Since 2006\, Project Health has hosted over 10\,000 free in-store events\, providing no-cost\, no-catch health screenings and resources to over 1 million patients.👨‍⚕️ #HealthIsACommunityPartner #BackToSchoolFair #HealthyLiving #CVSProjectHealth 🏫📚 \n*PRE-REGISTERING DOES NOT guarantee you will receive food\, school supplies or services\, it just allows you to get checked-in faster. \nYOU MUST BE PRESENT TO ACCEPT SCHOOL SUPPLIES OR FOOD ITEMS – no deliveries/no proxies! This event is open to the community\, so let’s make sure that our families are there! \n 
URL:https://kjlhradio.com/events/2023-back-to-school-community-fair/
LOCATION:Holy Trinity Lutheran Church\, 9300 S Crenshaw Blvd\, Inglewood\, CA\, 90305
ATTACH;FMTTYPE=image/jpeg:https://kjlhradio.com/wp-content/uploads/2023/08/Back2school.jpg
END:VEVENT
BEGIN:VEVENT
DTSTART;TZID=America/Los_Angeles:20230812T140000
DTEND;TZID=America/Los_Angeles:20230812T180000
DTSTAMP:20260419T191516
CREATED:20230727T005122Z
LAST-MODIFIED:20230811T135533Z
UID:58548-1691848800-1691863200@kjlhradio.com
SUMMARY:6th Annual Backpack Giveaway
DESCRIPTION:Mayor Lula Davis-Holmes in Partnership with Councilman Cedric Hick\, SouthBay Pavilion and Carson’s Cultural Arts Foundation to Host a Back-to-School Backpack Giveaway for Carson Residence. \nCarson\, California – July 24th –Mayor Lula Davis-Holmes and Councilman Hicks is delighted to announce an exciting initiative aimed at supporting the education and well-being of the youth in Carson’s vibrant community. On August 12\, from 2:00 PM\, Mayor Holmes and Councilman Hicks will be hosting a Back-to-School Backpack Giveaway event at the Center Court of South Bay Pavilion Mall\, located at 20700 Avalon Blvd. Carson\, CA 90746. \nThe Back-to-School Backpack Giveaway is a significant endeavor that aims to ensure children in Carson have the necessary tools and resources to embark on a successful academic year. Recognizing the importance of education and the challenges that many families face in providing essential school supplies\, Mayor Davis-Holmes and Councilman Hicks is committed to making a positive impact on the lives of local children. \nDuring the event\, Mayor Davis-Holmes and Councilman Hicks will personally hand out backpacks filled with essential school supplies to all attending children. The backpacks have been thoughtfully prepared to include fundamental materials to equip students for their educational journey. \nMayor Davis-Holmes expressed her enthusiasm for the initiative\, stating\, “Education is the cornerstone of our community’s future\, and every child deserves the opportunity to learn and grow without facing barriers. By providing these backpacks\, we hope to alleviate some of the burden on families and inspire our young minds to embrace learning with confidence.” \nThe Back-to-School Backpack Giveaway is a testament to Mayor Davis-Holmes and Councilman Hicks unwavering dedication to the welfare and development of youth. It also reflects her commitment to fostering a community that values education\, inclusivity\, and support for families from all walks of life. \nEveryone is encouraged to join Mayor Davis-Holmes and Councilman Hicks at the South Bay Pavilion Mall on August 12\, from 2:00 PM to witness the joy and excitement as children receive their backpacks in preparation for the upcoming school year. \n			\n				Click here for more info
URL:https://kjlhradio.com/events/6th-annual-backpack-giveaway/
LOCATION:South Bay Pavilion\, 20700 Avalon Blvd.\, Carson\, CA\, 90746
ATTACH;FMTTYPE=image/jpeg:https://kjlhradio.com/wp-content/uploads/2023/07/Backpack-Giveaway-Flyer_up.jpg
END:VEVENT
BEGIN:VEVENT
DTSTART;TZID=America/Los_Angeles:20230812T120000
DTEND;TZID=America/Los_Angeles:20230812T170000
DTSTAMP:20260419T191516
CREATED:20230808T212128Z
LAST-MODIFIED:20230808T212131Z
UID:58701-1691841600-1691859600@kjlhradio.com
SUMMARY:Peace\, Love and Reparations Concert + Unity Rally
DESCRIPTION:Click for more info
URL:https://kjlhradio.com/events/peace-love-and-reparations-concert-unity-rally/
LOCATION:Leimert Park\, 4395 Leimert Boulevard\, 90008
ATTACH;FMTTYPE=image/jpeg:https://kjlhradio.com/wp-content/uploads/2023/08/reparations-united.jpg
END:VEVENT
BEGIN:VEVENT
DTSTART;TZID=America/Los_Angeles:20230810T170000
DTEND;TZID=America/Los_Angeles:20230810T200000
DTSTAMP:20260419T191516
CREATED:20230803T224817Z
LAST-MODIFIED:20230803T225335Z
UID:58676-1691686800-1691697600@kjlhradio.com
SUMMARY:SWITCH and MICHEL'LE Live in Concert!
DESCRIPTION:Join us at the Soul Sets At The Park summer concert series with two legends of R&B/Soul music. \nA group with range like no other\, SWITCH headlines this can’t miss show that will keep you on your feet and out of your seats. \nOpening the show is LA’s own legend\, MICHEL’LE with a sultry and powering voice that blends well with the vocals of the shows headlining group. \nClick here for more info
URL:https://kjlhradio.com/events/switch-and-michelle-live-in-concert/
LOCATION:Hollywood Park Casino\, 3883 W Century Blvd\, Inglewood\, CA\, 93030
ATTACH;FMTTYPE=image/jpeg:https://kjlhradio.com/wp-content/uploads/2023/08/Aug-10-1.jpg
END:VEVENT
BEGIN:VEVENT
DTSTART;TZID=UTC:20230806T180000
DTEND;TZID=UTC:20230806T220000
DTSTAMP:20260419T191516
CREATED:20230620T052658Z
LAST-MODIFIED:20230620T052819Z
UID:58135-1691344800-1691359200@kjlhradio.com
SUMMARY:WAR/ The Rascals/ The Family Stone at the OC Fair
DESCRIPTION:WAR/ The Rascals/ The Family StoneDate: 8/6/23At the Pacific Amphitheatre/ OC FairAll concert tickets include admission to OC Fair! \n			\n				Get Tickets
URL:https://kjlhradio.com/events/war-the-rascals-the-family-stone-at-the-oc-fair/
LOCATION:The Pacific Amphitheatre\, 100 Fair Drive\, Costa Mesa\, CA\, 92626
ATTACH;FMTTYPE=image/jpeg:https://kjlhradio.com/wp-content/uploads/2023/06/8-6-War-Rascals-TFS-1200x867-1.jpg
END:VEVENT
BEGIN:VEVENT
DTSTART;TZID=America/Los_Angeles:20230805T110000
DTEND;TZID=America/Los_Angeles:20230805T180000
DTSTAMP:20260419T191516
CREATED:20230719T200856Z
LAST-MODIFIED:20230719T200934Z
UID:58454-1691233200-1691258400@kjlhradio.com
SUMMARY:Back 2 School Festival 2023
DESCRIPTION:The Backpack Give-A-Way is an annual initiative aimed at supporting underprivileged students in our community as they prepare for the upcoming school year.\nThis year’s event will take place on Saturday\, August 5\, 2023\, at Crenshaw High School in Los Angeles\, CA. We have partnered with a renowned non-profit organization\, It’s Bigger Than Us\, and you can find more information about the event by visiting their official website: https://www.ibtuevent.com
URL:https://kjlhradio.com/events/back-2-school-festival-2023/
LOCATION:Crenshaw High School\, 5010 11th Ave\, Los Angeles\, CA\, 90043
ATTACH;FMTTYPE=image/jpeg:https://kjlhradio.com/wp-content/uploads/2023/07/back2school-1.jpg
END:VEVENT
BEGIN:VEVENT
DTSTART;TZID=America/Los_Angeles:20230805T110000
DTEND;TZID=America/Los_Angeles:20230805T150000
DTSTAMP:20260419T191516
CREATED:20230719T201214Z
LAST-MODIFIED:20230719T201331Z
UID:58462-1691233200-1691247600@kjlhradio.com
SUMMARY:Zoe Christian Fellowship 2nd Annual Backpack Giveaway
DESCRIPTION:Zoe Christian Fellowship of Los Angeles is hosting its 2nd Annual Backpack Give away on Saturday\, August 5th from 11am to 3pm or until supplies last.\nChildren must be present. The location is 2521 South West View Street\, Los Angeles\, CA. For more information call 323-931-1477\, ext. 3.
URL:https://kjlhradio.com/events/zoe-christian-fellowship-2nd-annual-backpack-giveaway/
LOCATION:Zoe Christian Fellowship\, 2521 South West View Street\, Los Angeles\, CA\, 90016
ATTACH;FMTTYPE=image/webp:https://kjlhradio.com/wp-content/uploads/2023/07/logo4teal-1920w.webp
END:VEVENT
BEGIN:VEVENT
DTSTART;TZID=America/Los_Angeles:20230805T110000
DTEND;TZID=America/Los_Angeles:20230805T150000
DTSTAMP:20260419T191516
CREATED:20230719T200504Z
LAST-MODIFIED:20230721T192419Z
UID:58448-1691233200-1691247600@kjlhradio.com
SUMMARY:Senator Steven Bradford's Back to School Resource Fair
DESCRIPTION:Join us for Senator Steven Bradford’s Back to School Resource Fair & Backpack Giveaway! \nSaturday\, August 5\, 2023 – 11 am to 3 pm \nCalifornia State Dominguez Hills\, North Lawn – 1000 East Victoria St. Carson\, CA 90747 \nParking in Lot 2 (enter via Birchknoll Dr.) \nFREE Services: \n\nBackpacks and school supplies\nNatural History Mobile Museum\nKids Giveaways (Disney)\nBook Giveaway (LA County Library)\nAnti-bullying Workshop (Seniors Fight Back)\nHealth Screenings (UCLA Health)\nHousing / Rental Assistance Resources (Housing Rights Center)\nDental Screenings (CanAm Dental)\nHaircuts & Braids (Los Angeles Trade-Technical Institute)\nVision Screenings\nBasketball Activation Pop-Up (The Clippers)\nKids Activities (Home Depot\, Boys & Girls Club of Carson\, Strength Based Community Change\, McDonald’s)\nSnacks\nSchool Immunizations & COVID-19 Testing (LA County DPH – Walgreens)\nAnd SO MUCH MORE!\nWalk-ins are welcome but we encourage you to pre-register\n\nPreregistering does not guarantee you a backpack. Students must be present to collect it on a first-come\, first-served basis. One Free backpack filled with school supplies per registered student\, while supplies last! \nFor more information and to register click here or call (310) 412-6120.
URL:https://kjlhradio.com/events/senator-steven-bradfords-back-to-school-resource-fair/
LOCATION:California State Dominguez Hills\, 1000 East Victoria St.\, Carson\, CA\, 90747
ATTACH;FMTTYPE=image/jpeg:https://kjlhradio.com/wp-content/uploads/2023/07/rotator.jpg
END:VEVENT
BEGIN:VEVENT
DTSTART;TZID=America/Los_Angeles:20230805T100000
DTEND;TZID=America/Los_Angeles:20230805T130000
DTSTAMP:20260419T191516
CREATED:20230727T005519Z
LAST-MODIFIED:20230727T005846Z
UID:58555-1691229600-1691240400@kjlhradio.com
SUMMARY:Back to School Weekend
DESCRIPTION:Ward’s Back to School and Community Giveaway\nFor residents throughout greater Los Angeles to find resources you need and want. From school supplies to other school related services (e.g. haircuts). From public transportation to affordable housing. From food (staples plus fresh produce) to baby items (formula\, diapers) \nThere is literally SOMETHING FOR EVERYONE. \nFor more information\, to volunteer or to participate in other ways\, cal 213-747-1367.
URL:https://kjlhradio.com/events/back-to-school-weekend/
LOCATION:Ward AME Church Los Angeles\, 1177 W. 25th Street\, Los Angeles\, CA\, 90007
ATTACH;FMTTYPE=image/png:https://kjlhradio.com/wp-content/uploads/2023/07/Ward.png
END:VEVENT
BEGIN:VEVENT
DTSTART;TZID=UTC:20230804T190000
DTEND;TZID=UTC:20230804T230000
DTSTAMP:20260419T191516
CREATED:20230620T052127Z
LAST-MODIFIED:20230720T165505Z
UID:58119-1691175600-1691190000@kjlhradio.com
SUMMARY:Ne-Yo/ Robin Thicke/ Mario at the OC Fair
DESCRIPTION:Ne-Yo/ Robin Thicke/ MarioDate: 8/4/23At the Pacific Amphitheatre/ OC FairAll concert tickets include admission to OC Fair! \n			\n				Get Tickets
URL:https://kjlhradio.com/events/ne-yo-robin-thicke-mario-at-the-oc-fair/
LOCATION:The Pacific Amphitheatre\, 100 Fair Drive\, Costa Mesa\, CA\, 92626
ATTACH;FMTTYPE=image/jpeg:https://kjlhradio.com/wp-content/uploads/2023/06/8-4-Ne-Yo-RobinThicke-Mario-1200x1200-1.jpg
END:VEVENT
BEGIN:VEVENT
DTSTART;TZID=America/Los_Angeles:20230731T130000
DTEND;TZID=America/Los_Angeles:20230731T180000
DTSTAMP:20260419T191516
CREATED:20230719T195821Z
LAST-MODIFIED:20230720T162137Z
UID:58443-1690808400-1690826400@kjlhradio.com
SUMMARY:FREE Back-to-School Event!
DESCRIPTION:Join Adai Lamar at the Inglewood Community Resource Center at 2864 Imperial Highway on Monday\, July 31 from 1 to 6pm for our FREE Back-to-School Event! Bring the entire family for FREE Backpacks\, school supplies\, fun activities\, and more! Call 310-330-3130. Sponsored by L.A. Care Health Plan and Blue Shield of California Promise Health Plan Community Resource Centers. \n\nActivities\nFace painting\nArts and crafts\nGame Truck\nPopcorn and Sno Cone Machine\nFitness demos for 5 and up\nPhoto booth\n\n			\n				Click here for more info
URL:https://kjlhradio.com/events/free-back-to-school-event/
LOCATION:Inglewood Community Resource Center\, 2864 Imperial Highway\, Inglewood\, CA\, 90303
ATTACH;FMTTYPE=image/jpeg:https://kjlhradio.com/wp-content/uploads/2023/07/back-to-school.jpg
END:VEVENT
BEGIN:VEVENT
DTSTART;TZID=America/Los_Angeles:20230727T170000
DTEND;TZID=America/Los_Angeles:20230727T220000
DTSTAMP:20260419T191516
CREATED:20230720T164425Z
LAST-MODIFIED:20230720T164736Z
UID:58484-1690477200-1690495200@kjlhradio.com
SUMMARY:The Karyn White Experience
DESCRIPTION:Indulge in The Karyn White Experience: Karyn White\, Syleena Johnson\, and Ella Nicole Live in Concert! \nPrepare yourself for an unforgettable evening of pure musical bliss and a vibrant celebration of music and entertainment. The Karyn White Experience not only brings you the incredible talents of Karyn White\, Syleena Johnson\, and Ella Nicole but also promises an array of exciting offerings that will make this event a night to remember. Get ready for live band performances that will ignite the stage\, a sensational DJ who will keep the energy soaring\, and an atmosphere filled with electrifying dance moves that will have you moving to the rhythm all night long. \nKaryn White: A Soulful Trailblazer \nStep into the enchanting world of Karyn White\, a true trailblazer of R&B music. With a career that spans over three decades\, Karyn White has captivated audiences with her extraordinary vocal range and captivating stage presence. Known for her chart-topping hits such as “Superwoman\,” “Love Saw It\,” and “The Way You Love Me\,” Karyn White has left an indelible mark on the music industry. Her smooth\, sultry voice and soulful ballads have touched the hearts of millions\, making her an iconic figure in the world of R&B. Prepare to be mesmerized by her timeless classics and witness firsthand why Karyn White continues to be an unrivaled force in the music scene. \nSyleena Johnson: The Queen of Neo-Soul \nGet ready to be enthralled by the mesmerizing talent of Syleena Johnson\, hailed as the Queen of Neo-Soul. With a voice that effortlessly blends soul\, R&B\, and gospel influences\, Syleena Johnson has become a vocal powerhouse in her own right. Her rich\, velvety tones and heartfelt lyrics have earned her critical acclaim and a dedicated fan base. From her breakthrough hit “I Am Your Woman” to collaborations with industry giants like Kanye West and R. Kelly\, Syleena Johnson has consistently delivered music that resonates with authenticity and emotional depth. Prepare to be captivated by her raw talent and undeniable stage presence as she takes you on a soulful journey like no other. \nElla Nicole: A Rising Star on the Horizon \nWitness the rise of a rising star as Ella Nicole graces the stage with her undeniable talent and captivating energy. With a voice that effortlessly fuses soul\, pop\, and R&B\, Ella Nicole has quickly made a name for herself in the music industry. Her smooth\, honeyed vocals and infectious charisma have garnered attention and praise from both fans and industry insiders. Ella Nicole’s mesmerizing performances and infectious energy will leave you spellbound and eagerly anticipating her meteoric rise in the music world. \nBut that’s not all! The Karyn White Experience goes beyond music to provide an immersive entertainment extravaganza. Indulge your taste buds with hot\, delectable food options that will satisfy your cravings. Quench your thirst with cold adult libations that will keep the party vibes flowing. Experience the lively ambiance of a beer garden\, where you can mingle with fellow music lovers and enjoy a refreshing beverage under the starry night sky. \nCapture memories that will last a lifetime at the photo booth\, where you can strike a pose and immortalize this incredible evening. And for those seeking a truly VIP experience\, celebration and party suites are available\, offering an exclusive setting to revel in the music\, dance\, and create unforgettable moments with your closest friends. \n			\n				Click here for tickets and info
URL:https://kjlhradio.com/events/the-karyn-white-experience/
LOCATION:Hollywood Park Casino\, 3883 W Century Blvd\, Inglewood\, CA\, 93030
ATTACH;FMTTYPE=image/jpeg:https://kjlhradio.com/wp-content/uploads/2023/07/KarynWhite.jpg
END:VEVENT
BEGIN:VEVENT
DTSTART;TZID=America/Los_Angeles:20230716T153000
DTEND;TZID=America/Los_Angeles:20230716T203000
DTSTAMP:20260419T191516
CREATED:20230712T011123Z
LAST-MODIFIED:20230712T011201Z
UID:58354-1689521400-1689539400@kjlhradio.com
SUMMARY:Bill Pickett Rodeo
DESCRIPTION:Children: $22/ADV | $25/GATEAdults: $35/ADV | $40/GATEArena Seats: $50/ADV/GATE | Limited Seats(Arena Seats not recommended for young children)
URL:https://kjlhradio.com/events/bill-pickett-rodeo-2/
LOCATION:Industry Hills Expo Center\, 16200 Temple Ave\, City of Industry\, CA\, 91744
ATTACH;FMTTYPE=image/jpeg:https://kjlhradio.com/wp-content/uploads/2023/07/BillPickett.jpg
END:VEVENT
BEGIN:VEVENT
DTSTART;TZID=America/Los_Angeles:20230715T200000
DTEND;TZID=America/Los_Angeles:20230715T220000
DTSTAMP:20260419T191516
CREATED:20230707T141741Z
LAST-MODIFIED:20230707T141744Z
UID:58303-1689451200-1689458400@kjlhradio.com
SUMMARY:The Jacksons
DESCRIPTION:The Jacksons are one of the most successful groups in music history. Jackie\, Tito\, Jermaine\, Marlon and Michael\, five brothers from Gary\, Indiana\, known originally as The Jackson 5 and later The Jacksons\, rose to fame for their combination of extraordinary musical talent and spectacular choreography. \n			\n				Click here for tickets!
URL:https://kjlhradio.com/events/the-jacksons/
LOCATION:Yaamava’ Theater\, 777 San Manuel Blvd S\, Highland\, CA\, 92346
ATTACH;FMTTYPE=image/jpeg:https://kjlhradio.com/wp-content/uploads/2023/07/230234351_YENT_The_Jacksons_July_15th_social_Instagram_Story_General_1080x1920.jpg
END:VEVENT
BEGIN:VEVENT
DTSTART;TZID=America/Los_Angeles:20230715T190000
DTEND;TZID=America/Los_Angeles:20230715T230000
DTSTAMP:20260419T191516
CREATED:20230712T011020Z
LAST-MODIFIED:20230712T011024Z
UID:58344-1689447600-1689462000@kjlhradio.com
SUMMARY:Bill Pickett Rodeo
DESCRIPTION:Children: $22/ADV | $25/GATEAdults: $35/ADV | $40/GATEArena Seats: $50/ADV/GATE | Limited Seats(Arena Seats not recommended for young children)
URL:https://kjlhradio.com/events/bill-pickett-rodeo/
LOCATION:Industry Hills Expo Center\, 16200 Temple Ave\, City of Industry\, CA\, 91744
ATTACH;FMTTYPE=image/jpeg:https://kjlhradio.com/wp-content/uploads/2023/07/BillPickett.jpg
END:VEVENT
BEGIN:VEVENT
DTSTART;TZID=America/Los_Angeles:20230713T170000
DTEND;TZID=America/Los_Angeles:20230713T220000
DTSTAMP:20260419T191516
CREATED:20230712T010134Z
LAST-MODIFIED:20230712T010355Z
UID:58333-1689267600-1689285600@kjlhradio.com
SUMMARY:KEITH WASHINGTON with special guest Monifah
DESCRIPTION:Ladies\, come get your man!!!! The kickoff show on July 13 features the one and only ultimate lady pleaser\, Keith Washington. It has been years since he last performed in LA and he is extremely excited to show the ladies of LA a whole lot of love in an all-out\, no holds barred performance. \nJoining the stage is that girl\, Monifah (“I Miss You”\, “You”\, “Touch It” and R&B Divas: Atlanta). \nYOU DON’T WANT TO MISS THIS SHOW!!!
URL:https://kjlhradio.com/events/keith-washington-with-special-guest-monifah/
LOCATION:Hollywood Park Casino\, 3883 W Century Blvd\, Inglewood\, CA\, 93030
ATTACH;FMTTYPE=image/jpeg:https://kjlhradio.com/wp-content/uploads/2023/07/KeithWashington.jpg
END:VEVENT
BEGIN:VEVENT
DTSTART;TZID=America/Los_Angeles:20230707T080000
DTEND;TZID=America/Los_Angeles:20230709T170000
DTSTAMP:20260419T191516
CREATED:20230707T141413Z
LAST-MODIFIED:20230707T141518Z
UID:58295-1688716800-1688922000@kjlhradio.com
SUMMARY:The Tina Turner Musical
DESCRIPTION:Click here for tickets!
URL:https://kjlhradio.com/events/the-tina-turner-musical/
LOCATION:Pantages Theatre\, 6233 Hollywood Blvd\, Los Angeles\, CA\, 90028
ATTACH;FMTTYPE=image/png:https://kjlhradio.com/wp-content/uploads/2023/07/tina_los-angeles_600x600_07.09.23.png
END:VEVENT
END:VCALENDAR