BEGIN:VCALENDAR
VERSION:2.0
PRODID:-//Radio Free 102.3 KJLH - ECPv6.15.20//NONSGML v1.0//EN
CALSCALE:GREGORIAN
METHOD:PUBLISH
X-WR-CALNAME:Radio Free 102.3 KJLH
X-ORIGINAL-URL:https://kjlhradio.com
X-WR-CALDESC:Events for Radio Free 102.3 KJLH
REFRESH-INTERVAL;VALUE=DURATION:PT1H
X-Robots-Tag:noindex
X-PUBLISHED-TTL:PT1H
BEGIN:VTIMEZONE
TZID:America/Los_Angeles
BEGIN:DAYLIGHT
TZOFFSETFROM:-0800
TZOFFSETTO:-0700
TZNAME:PDT
DTSTART:20240310T100000
END:DAYLIGHT
BEGIN:STANDARD
TZOFFSETFROM:-0700
TZOFFSETTO:-0800
TZNAME:PST
DTSTART:20241103T090000
END:STANDARD
BEGIN:DAYLIGHT
TZOFFSETFROM:-0800
TZOFFSETTO:-0700
TZNAME:PDT
DTSTART:20250309T100000
END:DAYLIGHT
BEGIN:STANDARD
TZOFFSETFROM:-0700
TZOFFSETTO:-0800
TZNAME:PST
DTSTART:20251102T090000
END:STANDARD
BEGIN:DAYLIGHT
TZOFFSETFROM:-0800
TZOFFSETTO:-0700
TZNAME:PDT
DTSTART:20260308T100000
END:DAYLIGHT
BEGIN:STANDARD
TZOFFSETFROM:-0700
TZOFFSETTO:-0800
TZNAME:PST
DTSTART:20261101T090000
END:STANDARD
END:VTIMEZONE
BEGIN:VEVENT
DTSTART;TZID=America/Los_Angeles:20250621T110000
DTEND;TZID=America/Los_Angeles:20250621T170000
DTSTAMP:20260419T115842
CREATED:20250619T002350Z
LAST-MODIFIED:20250619T002513Z
UID:278980-1750503600-1750525200@kjlhradio.com
SUMMARY:Lynwood’s yearly cultural celebration of Juneteenth
DESCRIPTION:Join us for Lynwood’s yearly cultural celebration of Juneteenth!  \nSaturday\, June 21\, 2025\n11:00 A to 3:00 P\nLynwood City Hall lawn \nFEATURING:\n• Live Entertainment\n* ��Artisan Vendors\n* Food Vendors\n* ��Arts-N-Crafts\n* ��Jumpers\n* ��Bid-Whist & Dominoes Games\n* ��Family Games & Activities\n* ��Coloring & Essay Competition\n* AND MORE! \nFREE ADMISSION
URL:https://kjlhradio.com/events/lynwoods-yearly-cultural-celebration-of-juneteenth/
LOCATION:Lynwood City Hall Lawn\, 11330 Bullis Road\, Lynwood\, CA\, 90262
ATTACH;FMTTYPE=image/jpeg:https://kjlhradio.com/wp-content/uploads/2025/06/1000000269.jpg
END:VEVENT
END:VCALENDAR