BEGIN:VCALENDAR
VERSION:2.0
PRODID:-//Radio Free 102.3 KJLH - ECPv6.15.20//NONSGML v1.0//EN
CALSCALE:GREGORIAN
METHOD:PUBLISH
X-WR-CALNAME:Radio Free 102.3 KJLH
X-ORIGINAL-URL:https://kjlhradio.com
X-WR-CALDESC:Events for Radio Free 102.3 KJLH
REFRESH-INTERVAL;VALUE=DURATION:PT1H
X-Robots-Tag:noindex
X-PUBLISHED-TTL:PT1H
BEGIN:VTIMEZONE
TZID:America/Los_Angeles
BEGIN:DAYLIGHT
TZOFFSETFROM:-0800
TZOFFSETTO:-0700
TZNAME:PDT
DTSTART:20240310T100000
END:DAYLIGHT
BEGIN:STANDARD
TZOFFSETFROM:-0700
TZOFFSETTO:-0800
TZNAME:PST
DTSTART:20241103T090000
END:STANDARD
BEGIN:DAYLIGHT
TZOFFSETFROM:-0800
TZOFFSETTO:-0700
TZNAME:PDT
DTSTART:20250309T100000
END:DAYLIGHT
BEGIN:STANDARD
TZOFFSETFROM:-0700
TZOFFSETTO:-0800
TZNAME:PST
DTSTART:20251102T090000
END:STANDARD
BEGIN:DAYLIGHT
TZOFFSETFROM:-0800
TZOFFSETTO:-0700
TZNAME:PDT
DTSTART:20260308T100000
END:DAYLIGHT
BEGIN:STANDARD
TZOFFSETFROM:-0700
TZOFFSETTO:-0800
TZNAME:PST
DTSTART:20261101T090000
END:STANDARD
END:VTIMEZONE
BEGIN:VEVENT
DTSTART;TZID=America/Los_Angeles:20250117T193000
DTEND;TZID=America/Los_Angeles:20250117T223000
DTSTAMP:20260419T133704
CREATED:20250108T215606Z
LAST-MODIFIED:20250108T215610Z
UID:264314-1737142200-1737153000@kjlhradio.com
SUMMARY:Music 4 The Soul
DESCRIPTION:Music 4 The Soul – The Dramatics w/Trouble Man Marvin Gaye guest Norman Carter Delfonics
URL:https://kjlhradio.com/events/music-4-the-soul/
LOCATION:Redondo Beach Performing Arts Center\, 1935 Manhattan Beach Blvd\, Redondo Beach\, CA\, 90278
ATTACH;FMTTYPE=image/jpeg:https://kjlhradio.com/wp-content/uploads/2025/01/1ecee48d-4824-45f5-b479-443bd8bd62ed_1732890702.jpg
END:VEVENT
END:VCALENDAR