BEGIN:VCALENDAR
VERSION:2.0
PRODID:-//Radio Free 102.3 KJLH - ECPv6.15.20//NONSGML v1.0//EN
CALSCALE:GREGORIAN
METHOD:PUBLISH
X-WR-CALNAME:Radio Free 102.3 KJLH
X-ORIGINAL-URL:https://kjlhradio.com
X-WR-CALDESC:Events for Radio Free 102.3 KJLH
REFRESH-INTERVAL;VALUE=DURATION:PT1H
X-Robots-Tag:noindex
X-PUBLISHED-TTL:PT1H
BEGIN:VTIMEZONE
TZID:UTC
BEGIN:STANDARD
TZOFFSETFROM:+0000
TZOFFSETTO:+0000
TZNAME:UTC
DTSTART:20220101T000000
END:STANDARD
END:VTIMEZONE
BEGIN:VEVENT
DTSTART;TZID=UTC:20230804T190000
DTEND;TZID=UTC:20230804T230000
DTSTAMP:20260419T204040
CREATED:20230620T052127Z
LAST-MODIFIED:20230720T165505Z
UID:58119-1691175600-1691190000@kjlhradio.com
SUMMARY:Ne-Yo/ Robin Thicke/ Mario at the OC Fair
DESCRIPTION:Ne-Yo/ Robin Thicke/ MarioDate: 8/4/23At the Pacific Amphitheatre/ OC FairAll concert tickets include admission to OC Fair! \n			\n				Get Tickets
URL:https://kjlhradio.com/events/ne-yo-robin-thicke-mario-at-the-oc-fair/
LOCATION:The Pacific Amphitheatre\, 100 Fair Drive\, Costa Mesa\, CA\, 92626
ATTACH;FMTTYPE=image/jpeg:https://kjlhradio.com/wp-content/uploads/2023/06/8-4-Ne-Yo-RobinThicke-Mario-1200x1200-1.jpg
END:VEVENT
END:VCALENDAR