BEGIN:VCALENDAR
VERSION:2.0
PRODID:-//Radio Free 102.3 KJLH - ECPv6.15.20//NONSGML v1.0//EN
CALSCALE:GREGORIAN
METHOD:PUBLISH
X-WR-CALNAME:Radio Free 102.3 KJLH
X-ORIGINAL-URL:https://kjlhradio.com
X-WR-CALDESC:Events for Radio Free 102.3 KJLH
REFRESH-INTERVAL;VALUE=DURATION:PT1H
X-Robots-Tag:noindex
X-PUBLISHED-TTL:PT1H
BEGIN:VTIMEZONE
TZID:America/Los_Angeles
BEGIN:DAYLIGHT
TZOFFSETFROM:-0800
TZOFFSETTO:-0700
TZNAME:PDT
DTSTART:20220313T100000
END:DAYLIGHT
BEGIN:STANDARD
TZOFFSETFROM:-0700
TZOFFSETTO:-0800
TZNAME:PST
DTSTART:20221106T090000
END:STANDARD
BEGIN:DAYLIGHT
TZOFFSETFROM:-0800
TZOFFSETTO:-0700
TZNAME:PDT
DTSTART:20230312T100000
END:DAYLIGHT
BEGIN:STANDARD
TZOFFSETFROM:-0700
TZOFFSETTO:-0800
TZNAME:PST
DTSTART:20231105T090000
END:STANDARD
BEGIN:DAYLIGHT
TZOFFSETFROM:-0800
TZOFFSETTO:-0700
TZNAME:PDT
DTSTART:20240310T100000
END:DAYLIGHT
BEGIN:STANDARD
TZOFFSETFROM:-0700
TZOFFSETTO:-0800
TZNAME:PST
DTSTART:20241103T090000
END:STANDARD
END:VTIMEZONE
BEGIN:VEVENT
DTSTART;TZID=America/Los_Angeles:20231021T100000
DTEND;TZID=America/Los_Angeles:20231021T190000
DTSTAMP:20260419T191711
CREATED:20230927T201339Z
LAST-MODIFIED:20231106T153859Z
UID:241855-1697882400-1697914800@kjlhradio.com
SUMMARY:Taste of Soul 2023
DESCRIPTION:Get ready to party with Radio Free 102.3 KJLH at this year’s Taste of Soul Saturday October 21st! The ultimate family reunion on Crenshaw Blvd.\nJust added! Johnny Gill on stage receiving the KJLH Culture Icon Award!\nHit the block on Crenshaw for Free Family fun with vendors\, food trucks and hottest live music! \n			\n				\n				\n				\n				\n				\n			\n				\n				\n				\n				\n				Coming to the KJLH Stage presented by Delete The Divide will be live performances by Canton Jones\, MAJOR\, Dante Bowe\, DW3\, Mike Phillips\, October London\, The KJLH Choir and Christian Keyes.
URL:https://kjlhradio.com/events/taste-of-soul-2023/
LOCATION:Crenshaw Blvd.\, Crenshaw Blvd\, Los Angeles\, CA\, United States
ATTACH;FMTTYPE=image/jpeg:https://kjlhradio.com/wp-content/uploads/2023/09/TOS-logos.jpg
END:VEVENT
END:VCALENDAR